BEGIN:VCALENDAR
VERSION:2.0
PRODID:-//Homepage Winden - ECPv6.15.20//NONSGML v1.0//EN
CALSCALE:GREGORIAN
METHOD:PUBLISH
X-WR-CALNAME:Homepage Winden
X-ORIGINAL-URL:https://winden-pfalz.de
X-WR-CALDESC:Veranstaltungen für Homepage Winden
REFRESH-INTERVAL;VALUE=DURATION:PT1H
X-Robots-Tag:noindex
X-PUBLISHED-TTL:PT1H
BEGIN:VTIMEZONE
TZID:UTC
BEGIN:STANDARD
TZOFFSETFROM:+0000
TZOFFSETTO:+0000
TZNAME:UTC
DTSTART:20250101T000000
END:STANDARD
END:VTIMEZONE
BEGIN:VEVENT
DTSTART;TZID=UTC:20260728T150000
DTEND;TZID=UTC:20260728T173000
DTSTAMP:20260421T095842
CREATED:20251214T093110Z
LAST-MODIFIED:20251214T093110Z
UID:3748-1785250800-1785259800@winden-pfalz.de
SUMMARY:LandFrauen-Nachmittag
DESCRIPTION:Kaffee und Kuchen \nmit Ludwig Burgdörfer: „Wer loslässt\, hat die Hände frei – Anleitung zum täglichen Abschiednehmen“
URL:https://winden-pfalz.de/event/landfrauen-nachmittag-2/
LOCATION:Bürgerhaus
CATEGORIES:LandFrauen
ORGANIZER;CN="LandFrauen":MAILTO:Heide.walz@web.de
END:VEVENT
END:VCALENDAR