BEGIN:VCALENDAR
VERSION:2.0
PRODID:-//Homepage Winden - ECPv6.15.20//NONSGML v1.0//EN
CALSCALE:GREGORIAN
METHOD:PUBLISH
X-WR-CALNAME:Homepage Winden
X-ORIGINAL-URL:https://winden-pfalz.de
X-WR-CALDESC:Veranstaltungen für Homepage Winden
REFRESH-INTERVAL;VALUE=DURATION:PT1H
X-Robots-Tag:noindex
X-PUBLISHED-TTL:PT1H
BEGIN:VTIMEZONE
TZID:UTC
BEGIN:STANDARD
TZOFFSETFROM:+0000
TZOFFSETTO:+0000
TZNAME:UTC
DTSTART:20250101T000000
END:STANDARD
END:VTIMEZONE
BEGIN:VEVENT
DTSTART;TZID=UTC:20260707T150000
DTEND;TZID=UTC:20260707T210000
DTSTAMP:20260421T112835
CREATED:20251214T092724Z
LAST-MODIFIED:20251214T092724Z
UID:3745-1783436400-1783458000@winden-pfalz.de
SUMMARY:Radtour nach Rheinzabern...
DESCRIPTION:…zum Le Petit Paradis (Fachwerkhaus\, Garten und traditionelles Puppenstuben-Museum) \nmit Führung\, Kaffee und Kuchen \nKostenbeitrag incl. Kaffee u. Kuchen \nkann auch mit dem Auto angefahren werden \nAbschluss in der Hofschänke Winden \nTreffpunkt: Ecke Haupt-/Bahnhofstr.
URL:https://winden-pfalz.de/event/radtour-nach-rheinzabern/
LOCATION:Le Petit Paradis\, Rappengasse 11\, Rheinzabern\, 76764
CATEGORIES:LandFrauen
ORGANIZER;CN="LandFrauen":MAILTO:Heide.walz@web.de
END:VEVENT
END:VCALENDAR