BEGIN:VCALENDAR
VERSION:2.0
PRODID:-//Homepage Winden - ECPv6.15.20//NONSGML v1.0//EN
CALSCALE:GREGORIAN
METHOD:PUBLISH
X-WR-CALNAME:Homepage Winden
X-ORIGINAL-URL:https://winden-pfalz.de
X-WR-CALDESC:Veranstaltungen für Homepage Winden
REFRESH-INTERVAL;VALUE=DURATION:PT1H
X-Robots-Tag:noindex
X-PUBLISHED-TTL:PT1H
BEGIN:VTIMEZONE
TZID:UTC
BEGIN:STANDARD
TZOFFSETFROM:+0000
TZOFFSETTO:+0000
TZNAME:UTC
DTSTART:20250101T000000
END:STANDARD
END:VTIMEZONE
BEGIN:VEVENT
DTSTART;TZID=UTC:20260501T113000
DTEND;TZID=UTC:20260501T170000
DTSTAMP:20260421T111855
CREATED:20260421T080101Z
LAST-MODIFIED:20260421T080101Z
UID:4184-1777635000-1777654800@winden-pfalz.de
SUMMARY:Weingut Kehrt öffnet seine Weinstube
DESCRIPTION:…und der Storchenverein bietet Kaffee und Kuchen an!
URL:https://winden-pfalz.de/event/weingut-kehrt-oeffnet-seine-weinstube/
LOCATION:Weingut Kehrt\, Raiffeisenstrasse 1\, Winden\, 76872\, Germany
CATEGORIES:Verein zur Förderungs des Weißstorchs in Winden e.V.
ATTACH;FMTTYPE=image/jpeg:https://winden-pfalz.de/wp-content/uploads/2026/04/AnzeigeAmtsblatt.jpg
END:VEVENT
END:VCALENDAR