BEGIN:VCALENDAR
VERSION:2.0
PRODID:-//Homepage Winden - ECPv6.15.20//NONSGML v1.0//EN
CALSCALE:GREGORIAN
METHOD:PUBLISH
X-WR-CALNAME:Homepage Winden
X-ORIGINAL-URL:https://winden-pfalz.de
X-WR-CALDESC:Veranstaltungen für Homepage Winden
REFRESH-INTERVAL;VALUE=DURATION:PT1H
X-Robots-Tag:noindex
X-PUBLISHED-TTL:PT1H
BEGIN:VTIMEZONE
TZID:UTC
BEGIN:STANDARD
TZOFFSETFROM:+0000
TZOFFSETTO:+0000
TZNAME:UTC
DTSTART:20250101T000000
END:STANDARD
END:VTIMEZONE
BEGIN:VEVENT
DTSTART;TZID=UTC:20260502T090000
DTEND;TZID=UTC:20260502T120000
DTSTAMP:20260421T100510
CREATED:20251214T085222Z
LAST-MODIFIED:20251214T085222Z
UID:3726-1777712400-1777723200@winden-pfalz.de
SUMMARY:Papiersammlung
DESCRIPTION:
URL:https://winden-pfalz.de/event/papiersammlung-3/
CATEGORIES:Pfadfinder
END:VEVENT
END:VCALENDAR