BEGIN:VCALENDAR
VERSION:2.0
PRODID:-//Homepage Winden - ECPv6.15.20//NONSGML v1.0//EN
CALSCALE:GREGORIAN
METHOD:PUBLISH
X-WR-CALNAME:Homepage Winden
X-ORIGINAL-URL:https://winden-pfalz.de
X-WR-CALDESC:Veranstaltungen für Homepage Winden
REFRESH-INTERVAL;VALUE=DURATION:PT1H
X-Robots-Tag:noindex
X-PUBLISHED-TTL:PT1H
BEGIN:VTIMEZONE
TZID:UTC
BEGIN:STANDARD
TZOFFSETFROM:+0000
TZOFFSETTO:+0000
TZNAME:UTC
DTSTART:20250101T000000
END:STANDARD
END:VTIMEZONE
BEGIN:VEVENT
DTSTART;TZID=UTC:20260509T110000
DTEND;TZID=UTC:20260509T130000
DTSTAMP:20260423T112719
CREATED:20260423T102135Z
LAST-MODIFIED:20260423T102135Z
UID:4190-1778324400-1778331600@winden-pfalz.de
SUMMARY:Pflanzenverkauf der KiTa Storchennest
DESCRIPTION:
URL:https://winden-pfalz.de/event/pflanzenverkauf-der-kita-storchennest-2/
LOCATION:raiffeisenstr\, Raiffeisenstr. 2\, Winden\, 76872
CATEGORIES:Kita Storchennest
ATTACH;FMTTYPE=image/jpeg:https://winden-pfalz.de/wp-content/uploads/2026/04/Plakat-Pflanzenverkauf-2026-1-scaled.jpg
END:VEVENT
END:VCALENDAR