BEGIN:VCALENDAR
VERSION:2.0
PRODID:-//Homepage Winden - ECPv6.15.20//NONSGML v1.0//EN
CALSCALE:GREGORIAN
METHOD:PUBLISH
X-ORIGINAL-URL:https://winden-pfalz.de
X-WR-CALDESC:Veranstaltungen für Homepage Winden
REFRESH-INTERVAL;VALUE=DURATION:PT1H
X-Robots-Tag:noindex
X-PUBLISHED-TTL:PT1H
BEGIN:VTIMEZONE
TZID:UTC
BEGIN:STANDARD
TZOFFSETFROM:+0000
TZOFFSETTO:+0000
TZNAME:UTC
DTSTART:20250101T000000
END:STANDARD
END:VTIMEZONE
BEGIN:VEVENT
DTSTART;VALUE=DATE:20260911
DTEND;VALUE=DATE:20260914
DTSTAMP:20260421T200914
CREATED:20251214T094437Z
LAST-MODIFIED:20251215T193645Z
UID:3756-1789084800-1789343999@winden-pfalz.de
SUMMARY:Jugend-LK-Turnier
DESCRIPTION:
URL:https://winden-pfalz.de/event/jugend-lk-turnier/
LOCATION:Tennisplätze\, Am Sportplatz 11a\, Winden\, 76872
CATEGORIES:TC-Winden
ORGANIZER;CN="Tennisclub Winden 1982 e.V.":MAILTO:info@tennis-winden.de
END:VEVENT
BEGIN:VEVENT
DTSTART;VALUE=DATE:20260912
DTEND;VALUE=DATE:20260913
DTSTAMP:20260421T200914
CREATED:20251214T094805Z
LAST-MODIFIED:20251214T094805Z
UID:3760-1789171200-1789257599@winden-pfalz.de
SUMMARY:Saisonabschluss mit Dorfmeisterschaft
DESCRIPTION:
URL:https://winden-pfalz.de/event/saisonabschluss-mit-dorfmeisterschaft/
LOCATION:Tennisplätze\, Am Sportplatz 11a\, Winden\, 76872
CATEGORIES:TC-Winden
ORGANIZER;CN="Tennisclub Winden 1982 e.V.":MAILTO:info@tennis-winden.de
END:VEVENT
BEGIN:VEVENT
DTSTART;TZID=UTC:20260912T090000
DTEND;TZID=UTC:20260912T210000
DTSTAMP:20260421T200914
CREATED:20251214T095322Z
LAST-MODIFIED:20251214T095322Z
UID:3762-1789203600-1789246800@winden-pfalz.de
SUMMARY:Politik in Europa - Exkursion nach Straßburg
DESCRIPTION:mit Besuch des Europa-Parlaments und der Altstadt \n(Fahrt mit dem Zug) \nKostenbeitrag wird noch ermittelt \nAnmeldung erforderlich!
URL:https://winden-pfalz.de/event/politik-in-europa-exkursion-nach-strassburg/
LOCATION:Bahnhofsvorplatz Winden\, Bahnhofstr. 19\, Winden\, 76872
CATEGORIES:LandFrauen
ORGANIZER;CN="LandFrauen":MAILTO:Heide.walz@web.de
END:VEVENT
END:VCALENDAR