BEGIN:VCALENDAR
VERSION:2.0
PRODID:-//Homepage Winden - ECPv6.15.20//NONSGML v1.0//EN
CALSCALE:GREGORIAN
METHOD:PUBLISH
X-ORIGINAL-URL:https://winden-pfalz.de
X-WR-CALDESC:Veranstaltungen für Homepage Winden
REFRESH-INTERVAL;VALUE=DURATION:PT1H
X-Robots-Tag:noindex
X-PUBLISHED-TTL:PT1H
BEGIN:VTIMEZONE
TZID:UTC
BEGIN:STANDARD
TZOFFSETFROM:+0000
TZOFFSETTO:+0000
TZNAME:UTC
DTSTART:20250101T000000
END:STANDARD
END:VTIMEZONE
BEGIN:VEVENT
DTSTART;VALUE=DATE:20260917
DTEND;VALUE=DATE:20260922
DTSTAMP:20260421T180727
CREATED:20251214T095656Z
LAST-MODIFIED:20251214T095656Z
UID:3764-1789603200-1790035199@winden-pfalz.de
SUMMARY:Winnemer Kerwe
DESCRIPTION:
URL:https://winden-pfalz.de/event/winnemer-kerwe/
CATEGORIES:Ortsgemeinde,Windener Vereine
END:VEVENT
BEGIN:VEVENT
DTSTART;TZID=UTC:20260919T190000
DTEND;TZID=UTC:20260919T233000
DTSTAMP:20260421T180727
CREATED:20251214T100040Z
LAST-MODIFIED:20251214T100040Z
UID:3766-1789844400-1789860600@winden-pfalz.de
SUMMARY:Winnemer Kerwe
DESCRIPTION:Kerwe-Essen der LandFrauen
URL:https://winden-pfalz.de/event/winnemer-kerwe-2/
LOCATION:Bürgerhaus
CATEGORIES:LandFrauen
ORGANIZER;CN="LandFrauen":MAILTO:Heide.walz@web.de
END:VEVENT
END:VCALENDAR