BEGIN:VCALENDAR
VERSION:2.0
PRODID:-//Homepage Winden - ECPv6.15.20//NONSGML v1.0//EN
CALSCALE:GREGORIAN
METHOD:PUBLISH
X-ORIGINAL-URL:https://winden-pfalz.de
X-WR-CALDESC:Veranstaltungen für Homepage Winden
REFRESH-INTERVAL;VALUE=DURATION:PT1H
X-Robots-Tag:noindex
X-PUBLISHED-TTL:PT1H
BEGIN:VTIMEZONE
TZID:UTC
BEGIN:STANDARD
TZOFFSETFROM:+0000
TZOFFSETTO:+0000
TZNAME:UTC
DTSTART:20250101T000000
END:STANDARD
END:VTIMEZONE
BEGIN:VEVENT
DTSTART;TZID=UTC:20261104T173000
DTEND;TZID=UTC:20261104T200000
DTSTAMP:20260421T200914
CREATED:20260415T094820Z
LAST-MODIFIED:20260415T094820Z
UID:4176-1793813400-1793822400@winden-pfalz.de
SUMMARY:Blutspende in Winden
DESCRIPTION:
URL:https://winden-pfalz.de/event/blutspende-in-winden-2/
LOCATION:Bürgerhaus
CATEGORIES:DRK
ATTACH;FMTTYPE=image/jpeg:https://winden-pfalz.de/wp-content/uploads/2026/04/e4f9929c-8cf1-4c46-b76b-843a9db6fcc2.jpeg
END:VEVENT
BEGIN:VEVENT
DTSTART;TZID=UTC:20261107T090000
DTEND;TZID=UTC:20261107T120000
DTSTAMP:20260421T200914
CREATED:20251214T101640Z
LAST-MODIFIED:20251214T101640Z
UID:3778-1794042000-1794052800@winden-pfalz.de
SUMMARY:Papiersammlung
DESCRIPTION:
URL:https://winden-pfalz.de/event/papiersammlung-6/
CATEGORIES:Pfadfinder
END:VEVENT
BEGIN:VEVENT
DTSTART;TZID=UTC:20261110T190000
DTEND;TZID=UTC:20261110T210000
DTSTAMP:20260421T200914
CREATED:20251214T101857Z
LAST-MODIFIED:20251214T101857Z
UID:3780-1794337200-1794344400@winden-pfalz.de
SUMMARY:"Weihnachtliche Bastelideen"
DESCRIPTION:Einführung in die Technik des Makramees \nLeitung: Petra Stoewe \nKostenbeitrag wird noch ermittelt
URL:https://winden-pfalz.de/event/weihnachtliche-bastelideen/
LOCATION:Bürgerhaus
CATEGORIES:LandFrauen
ORGANIZER;CN="LandFrauen":MAILTO:Heide.walz@web.de
END:VEVENT
BEGIN:VEVENT
DTSTART;VALUE=DATE:20261122
DTEND;VALUE=DATE:20261123
DTSTAMP:20260421T200914
CREATED:20251214T102042Z
LAST-MODIFIED:20251214T102042Z
UID:3782-1795305600-1795391999@winden-pfalz.de
SUMMARY:Gedenkveranstaltung zum Volkstrauertag
DESCRIPTION:
URL:https://winden-pfalz.de/event/gedenkveranstaltung-zum-volkstrauertag/
LOCATION:Ev. Kirchengemeinde\, Kirchstraße\, Winden\, 76872
CATEGORIES:Ortsgemeinde
END:VEVENT
BEGIN:VEVENT
DTSTART;TZID=UTC:20261123T190000
DTEND;TZID=UTC:20261123T203000
DTSTAMP:20260421T200914
CREATED:20251214T102156Z
LAST-MODIFIED:20260213T115211Z
UID:3784-1795460400-1795465800@winden-pfalz.de
SUMMARY:Gemeinderatssitzung
DESCRIPTION:
URL:https://winden-pfalz.de/event/gemeinderatssitzung-10/
LOCATION:Winden Rathaus\, Hauptstr. 33\, Winden\, 76872
CATEGORIES:Ortsgemeinde
END:VEVENT
BEGIN:VEVENT
DTSTART;TZID=UTC:20261124T150000
DTEND;TZID=UTC:20261124T173000
DTSTAMP:20260421T200914
CREATED:20251214T102348Z
LAST-MODIFIED:20251214T102348Z
UID:3786-1795532400-1795541400@winden-pfalz.de
SUMMARY:Adventscafé
DESCRIPTION:mit Gina Greifenstein \nKaffee und Kuchen
URL:https://winden-pfalz.de/event/adventscafe/
LOCATION:Bürgerhaus
CATEGORIES:LandFrauen
ORGANIZER;CN="LandFrauen":MAILTO:Heide.walz@web.de
END:VEVENT
BEGIN:VEVENT
DTSTART;VALUE=DATE:20261127
DTEND;VALUE=DATE:20261128
DTSTAMP:20260421T200914
CREATED:20251214T102456Z
LAST-MODIFIED:20251214T102456Z
UID:3788-1795737600-1795823999@winden-pfalz.de
SUMMARY:Einwohnerversammlung
DESCRIPTION:
URL:https://winden-pfalz.de/event/einwohnerversammlung/
LOCATION:Bürgerhaus
CATEGORIES:Ortsgemeinde
END:VEVENT
BEGIN:VEVENT
DTSTART;VALUE=DATE:20261128
DTEND;VALUE=DATE:20261129
DTSTAMP:20260421T200914
CREATED:20251214T102627Z
LAST-MODIFIED:20251214T102627Z
UID:3790-1795824000-1795910399@winden-pfalz.de
SUMMARY:Winnemer Adventsmarkt
DESCRIPTION:
URL:https://winden-pfalz.de/event/winnemer-adventsmarkt/
LOCATION:Bürgerhaushof\, Raiffeisenstr. 15\, Winden\, 76872
CATEGORIES:Ortsgemeinde,Windener Vereine
ORGANIZER;CN="Windener Vereine":MAILTO:Nadja.renz@t-online
END:VEVENT
END:VCALENDAR