BEGIN:VCALENDAR
VERSION:2.0
PRODID:-//Homepage Winden - ECPv6.15.20//NONSGML v1.0//EN
CALSCALE:GREGORIAN
METHOD:PUBLISH
X-WR-CALNAME:Homepage Winden
X-ORIGINAL-URL:https://winden-pfalz.de
X-WR-CALDESC:Veranstaltungen für Homepage Winden
REFRESH-INTERVAL;VALUE=DURATION:PT1H
X-Robots-Tag:noindex
X-PUBLISHED-TTL:PT1H
BEGIN:VTIMEZONE
TZID:UTC
BEGIN:STANDARD
TZOFFSETFROM:+0000
TZOFFSETTO:+0000
TZNAME:UTC
DTSTART:20250101T000000
END:STANDARD
END:VTIMEZONE
BEGIN:VEVENT
DTSTART;TZID=UTC:20260425T110000
DTEND;TZID=UTC:20260425T200000
DTSTAMP:20260423T090915
CREATED:20251214T084757Z
LAST-MODIFIED:20260223T212308Z
UID:3722-1777114800-1777147200@winden-pfalz.de
SUMMARY:Saisoneröffnung und Dorf-"Schleifchen"-Turnier
DESCRIPTION:
URL:https://winden-pfalz.de/event/saisoneroeffnung-und-dorf-schleifchen-turnier/
LOCATION:Tennisplätze\, Am Sportplatz 11a\, Winden\, 76872
CATEGORIES:TC-Winden
ATTACH;FMTTYPE=image/png:https://winden-pfalz.de/wp-content/uploads/2025/12/IMG_0522.png
ORGANIZER;CN="Tennisclub Winden 1982 e.V.":MAILTO:info@tennis-winden.de
END:VEVENT
BEGIN:VEVENT
DTSTART;TZID=UTC:20260427T183000
DTEND;TZID=UTC:20260427T203000
DTSTAMP:20260423T090915
CREATED:20251214T085032Z
LAST-MODIFIED:20251214T085032Z
UID:3724-1777314600-1777321800@winden-pfalz.de
SUMMARY:"Wir häkeln einen Sommerhut"
DESCRIPTION:Leitung: Susanne Haag
URL:https://winden-pfalz.de/event/wir-haekeln-einen-sommerhut/
LOCATION:Bürgerhaus
CATEGORIES:LandFrauen
ORGANIZER;CN="LandFrauen":MAILTO:Heide.walz@web.de
END:VEVENT
BEGIN:VEVENT
DTSTART;TZID=UTC:20260429T173000
DTEND;TZID=UTC:20260429T200000
DTSTAMP:20260423T090915
CREATED:20260415T094451Z
LAST-MODIFIED:20260415T094451Z
UID:4171-1777483800-1777492800@winden-pfalz.de
SUMMARY:Blutspende in Winden
DESCRIPTION:
URL:https://winden-pfalz.de/event/blutspende-in-winden/
LOCATION:Bürgerhaus
CATEGORIES:DRK
ATTACH;FMTTYPE=image/jpeg:https://winden-pfalz.de/wp-content/uploads/2026/04/717d83f5-1b2e-4e79-b0d1-7a7042dad7c6.jpeg
END:VEVENT
END:VCALENDAR